BEGIN:VCALENDAR
VERSION:2.0
PRODID:-//Telluride Historical Museum - ECPv6.15.0//NONSGML v1.0//EN
CALSCALE:GREGORIAN
METHOD:PUBLISH
X-ORIGINAL-URL:https://www.telluridemuseum.org
X-WR-CALDESC:Events for Telluride Historical Museum
REFRESH-INTERVAL;VALUE=DURATION:PT1H
X-Robots-Tag:noindex
X-PUBLISHED-TTL:PT1H
BEGIN:VTIMEZONE
TZID:America/Denver
BEGIN:DAYLIGHT
TZOFFSETFROM:-0700
TZOFFSETTO:-0600
TZNAME:MDT
DTSTART:20210314T090000
END:DAYLIGHT
BEGIN:STANDARD
TZOFFSETFROM:-0600
TZOFFSETTO:-0700
TZNAME:MST
DTSTART:20211107T080000
END:STANDARD
END:VTIMEZONE
BEGIN:VEVENT
DTSTART;TZID=America/Denver:20210611T100000
DTEND;TZID=America/Denver:20210611T113000
DTSTAMP:20260424T025538
CREATED:20210609T200042Z
LAST-MODIFIED:20210609T200917Z
UID:4606-1623405600-1623411000@www.telluridemuseum.org
SUMMARY:HARC Tour
DESCRIPTION:The Telluride Historical Museum has partnered with the Historic Architectural Review Commission (HARC) to offer complimentary tours of the historic Town of Telluride once a month throughout the summer. These walking tours will explore Telluride architecture and built environment highlighting which buildings have been preserved and how Telluride retains its charming character.\n \nThe tours will take place the second Friday of June\, July\, August & September and will depart from the Museum at 10:00 AM.\n \nHARC Tours are free.
URL:https://www.telluridemuseum.org/event/harc-tour/2021-06-11/
LOCATION:Telluride Historical Museum\, 201 W. Gregory Ave.\, Telluride\, CO\, 81435\, United States
CATEGORIES:Tours
ATTACH;FMTTYPE=image/png:https://www.telluridemuseum.org/wp-content/uploads/2019/06/Website-Slider.png
END:VEVENT
END:VCALENDAR