BEGIN:VCALENDAR
VERSION:2.0
PRODID:-//Telluride Historical Museum - ECPv6.15.0//NONSGML v1.0//EN
CALSCALE:GREGORIAN
METHOD:PUBLISH
X-ORIGINAL-URL:https://www.telluridemuseum.org
X-WR-CALDESC:Events for Telluride Historical Museum
REFRESH-INTERVAL;VALUE=DURATION:PT1H
X-Robots-Tag:noindex
X-PUBLISHED-TTL:PT1H
BEGIN:VTIMEZONE
TZID:America/Denver
BEGIN:DAYLIGHT
TZOFFSETFROM:-0700
TZOFFSETTO:-0600
TZNAME:MDT
DTSTART:20210314T090000
END:DAYLIGHT
BEGIN:STANDARD
TZOFFSETFROM:-0600
TZOFFSETTO:-0700
TZNAME:MST
DTSTART:20211107T080000
END:STANDARD
END:VTIMEZONE
BEGIN:VEVENT
DTSTART;TZID=America/Denver:20210603T130000
DTEND;TZID=America/Denver:20210603T143000
DTSTAMP:20260424T164412
CREATED:20200722T233541Z
LAST-MODIFIED:20210510T215304Z
UID:4446-1622725200-1622730600@www.telluridemuseum.org
SUMMARY:Historical Walking Tour
DESCRIPTION:Hear the tales and see the sights on this lively tour about town. Join longtime local\, performer\, and community historian Ashley Boling as he recounts the people\, events\, and buildings that make Telluride unique. \nAshley has been giving engaging historical walking tours of Telluride for more than 20 years and his innate enthusiasm for history and natural gift for storytelling will have you entertained for the complete hour and fifteen minute tour of town. Learn about some of Telluride’s most notable citizens and famous stories and see where Butch Cassidy robbed his first bank! \n$10 for Members \n$15 Non-Members
URL:https://www.telluridemuseum.org/event/historical-walking-tour-2/2021-06-03/
ATTACH;FMTTYPE=image/png:https://www.telluridemuseum.org/wp-content/uploads/2016/06/WalkingTour-Banner_2-1.png
END:VEVENT
END:VCALENDAR