BEGIN:VCALENDAR
VERSION:2.0
PRODID:-//Telluride Historical Museum - ECPv6.15.0//NONSGML v1.0//EN
CALSCALE:GREGORIAN
METHOD:PUBLISH
X-ORIGINAL-URL:https://www.telluridemuseum.org
X-WR-CALDESC:Events for Telluride Historical Museum
REFRESH-INTERVAL;VALUE=DURATION:PT1H
X-Robots-Tag:noindex
X-PUBLISHED-TTL:PT1H
BEGIN:VTIMEZONE
TZID:America/Denver
BEGIN:DAYLIGHT
TZOFFSETFROM:-0700
TZOFFSETTO:-0600
TZNAME:MDT
DTSTART:20150308T090000
END:DAYLIGHT
BEGIN:STANDARD
TZOFFSETFROM:-0600
TZOFFSETTO:-0700
TZNAME:MST
DTSTART:20151101T080000
END:STANDARD
END:VTIMEZONE
BEGIN:VEVENT
DTSTART;TZID=America/Denver:20150612T130000
DTEND;TZID=America/Denver:20150612T141500
DTSTAMP:20260424T040137
CREATED:20150327T224613Z
LAST-MODIFIED:20151222T075835Z
UID:1847-1434114000-1434118500@www.telluridemuseum.org
SUMMARY:Lone Tree Cemetery Tour
DESCRIPTION:Join us for a unique look into Telluride history and the iconic people who lived\, worked\, and were buried here. \nThe meeting place of this event has changed. Tours will now meet at the Museum at 1:00. Those who still wish to meet at Lone Tree Cemetery may do so. The tour group will arrive at approximately 1:20.\n \nPurchase tickets online or call (970) 728-3344. \nClick here to purchase tickets!
URL:https://www.telluridemuseum.org/event/lone-tree-cemetery-tour-8/2015-06-12/
LOCATION:Lone Tree Cemetery\, 1015 E Colorado Ave\,\, Telluride\, 81435
CATEGORIES:Lectures & Talks,Tours
GEO:37.9351279;-107.8010281
X-APPLE-STRUCTURED-LOCATION;VALUE=URI;X-ADDRESS=Lone Tree Cemetery 1015 E Colorado Ave Telluride 81435;X-APPLE-RADIUS=500;X-TITLE=1015 E Colorado Ave\,:geo:-107.8010281,37.9351279
END:VEVENT
END:VCALENDAR