BEGIN:VCALENDAR
VERSION:2.0
PRODID:-//Telluride Historical Museum - ECPv6.15.0//NONSGML v1.0//EN
CALSCALE:GREGORIAN
METHOD:PUBLISH
X-WR-CALNAME:Telluride Historical Museum
X-ORIGINAL-URL:https://www.telluridemuseum.org
X-WR-CALDESC:Events for Telluride Historical Museum
REFRESH-INTERVAL;VALUE=DURATION:PT1H
X-Robots-Tag:noindex
X-PUBLISHED-TTL:PT1H
BEGIN:VTIMEZONE
TZID:America/Denver
BEGIN:DAYLIGHT
TZOFFSETFROM:-0700
TZOFFSETTO:-0600
TZNAME:MDT
DTSTART:20190310T090000
END:DAYLIGHT
BEGIN:STANDARD
TZOFFSETFROM:-0600
TZOFFSETTO:-0700
TZNAME:MST
DTSTART:20191103T080000
END:STANDARD
END:VTIMEZONE
BEGIN:VEVENT
DTSTART;TZID=America/Denver:20191002T173000
DTEND;TZID=America/Denver:20191002T183000
DTSTAMP:20260424T160940
CREATED:20190817T003148Z
LAST-MODIFIED:20190910T173903Z
UID:4162-1570037400-1570041000@www.telluridemuseum.org
SUMMARY:Fireside Chat
DESCRIPTION:October 2nd\, 5:30-6:30\nOliver House\, Norwood CO  \nIn partnership with Wright’s Mesa Historical Society\n\nDon Paulson “Abandoned Mining Sites\, Stories from the Past”\nJoin Don Paulson of the Ouray County Historical Society to discover secrets at abandoned mining sites. Learn how to carefully identify the past lives of these once bustling places.
URL:https://www.telluridemuseum.org/event/fireside-chat-2019-10-02/
LOCATION:Oliver House\, Norwood CO
CATEGORIES:Lectures & Talks
END:VEVENT
BEGIN:VEVENT
DTSTART;TZID=America/Denver:20191003T173000
DTEND;TZID=America/Denver:20191003T183000
DTSTAMP:20260424T160940
CREATED:20190817T003148Z
LAST-MODIFIED:20190910T173805Z
UID:4163-1570123800-1570127400@www.telluridemuseum.org
SUMMARY:Fireside Chat
DESCRIPTION:October 3rd 5:30-6:30\nMadeline Hotel and Residences: Living Room\n*Guests will be encouraged to visit M Lounge for a 15% discount during the event and can purchase food and beverage and bring to the Fireside Chat.\nDon Paulson “Abandoned Mining Sites\, Stories from the Past”\nJoin Don Paulson of the Ouray County Historical Society to discover secrets at abandoned mining sites. Learn how to carefully identify the past lives of these once bustling places.
URL:https://www.telluridemuseum.org/event/fireside-chat-2019-10-03/
LOCATION:Madeline Hotel and Residences\, Mountain Village\, United States
CATEGORIES:Lectures & Talks
GEO:37.09024;-95.712891
END:VEVENT
END:VCALENDAR