BEGIN:VCALENDAR
VERSION:2.0
PRODID:-//Telluride Historical Museum - ECPv6.15.0//NONSGML v1.0//EN
CALSCALE:GREGORIAN
METHOD:PUBLISH
X-WR-CALNAME:Telluride Historical Museum
X-ORIGINAL-URL:https://www.telluridemuseum.org
X-WR-CALDESC:Events for Telluride Historical Museum
REFRESH-INTERVAL;VALUE=DURATION:PT1H
X-Robots-Tag:noindex
X-PUBLISHED-TTL:PT1H
BEGIN:VTIMEZONE
TZID:America/Denver
BEGIN:DAYLIGHT
TZOFFSETFROM:-0700
TZOFFSETTO:-0600
TZNAME:MDT
DTSTART:20250309T090000
END:DAYLIGHT
BEGIN:STANDARD
TZOFFSETFROM:-0600
TZOFFSETTO:-0700
TZNAME:MST
DTSTART:20251102T080000
END:STANDARD
END:VTIMEZONE
BEGIN:VEVENT
DTSTART;TZID=America/Denver:20250623T171500
DTEND;TZID=America/Denver:20250623T190000
DTSTAMP:20260423T043157
CREATED:20250605T211201Z
LAST-MODIFIED:20250605T211201Z
UID:6531-1750698900-1750705200@www.telluridemuseum.org
SUMMARY:San Juan Stories Book Club: One Man's West
DESCRIPTION:Join the Telluride Library for one or all of a mini book club series featuring three non-fiction books about the region! \nJune 23rd at 5:15 pm- One Man’s West by David S. Lavender\, discussion led by the author’s grandson\, Telluride resident\, David Lavender \nSign up by June 13th to be entered into a raffle for one of three copies of One Man’s West! \nThe American West of the 1930s and 1940s was still a place of prospectors\, cowboys\, ranchers\, and mountaineers\, one that demanded backbreaking\, lonely\, and dangerous work. Still\, midcentury pioneers such as David Lavender remembered “not the cold and the cruel fatigue\, but rather the multitude of tiny things which in their sum make up the elemental poetry of rock and ice and snow.” And as the nation exhausted its gold and silver veins\, as law reached the boomtowns on the frontier\, and as the era of the great cattle ranches and drives came to an end\, Lavender felt compelled to document his experiences in rugged southwest Colorado to preserve this rapidly disappearing way of life. One Man’s West is Lavender’s ode to his days on the Continental Divide in the Telluride region and the story of his experiences making a living in the not so wild but not yet tamed West. Like stories told around a campfire\, One Man’s West is captivating yet conversational\, incredible yet realistic\, and introduces some of the most charming characters in western literature. \nJuly 14th at 5:15 pm- Tomboy Bride: One Woman’s Personal Account of Life in Mining Camps of the West by Harriet Fish Backus\, discussion led by the author’s grandson\, Rob Walton and Telluride Historical Museum staff \nHarriet Backus writes about her life as an assayer’s wife and true pioneer of the West with heart-felt emotion and vivid detail. Sharing her amusing and often challenging experiences as a new bride in the high San Juan Mountains where the Tomboy Mine operated above Telluride\, Colorado\, she paints a poignant picture of the people\, and the life centered around silver mining where most of the book takes place. It is a skillfully written account from a women’s perspective in a rough and tumble mining town that has made this book a classic for women’s studies.  Harriet’s life followed her husband George’s career which took them many places beyond the San Juan Mountains including the rugged coast of British Columbia\, and the mountainous mining town of Elk City\, Idaho and back to Colorado’s Leadville. Although both Hattie and George were from the San Francisco bay area where they eventually retired\, her heart never quite left the rugged mountain trails of the high San Juans of Colorado. \nAugust 5th at 5:15 pm- Dead Run: The Murder of a Lawman and the Greatest Manhunt of the Modern American West by Dan Schultz\, discussion led by author\, Dan Schultz \nEvoking Into the Wild and The Monkey Wrench Gang\, Dead Run is the extraordinary true story of three desperado survivalists\, a dangerous plot\, a brutal murder\, and a treacherous manhunt. \nOn a sunny May morning in 1998\, three friends in a stolen truck passed through Cortez\, Colorado on their way to commit sabotage of unspeakable proportions. Evidence suggests their mission was to blow up the Glen Canyon dam. Had they succeeded\, the structure’s collapse would have unleashed a 500-foot-high inland tsunami\, surging across the American Southwest and pulverizing everything in its path―crashing through the Grand Canyon\, overflowing Hoover Dam\, washing away downstream communities and crippling the water supply of Las Vegas\, Phoenix\, Tucson\, Los Angeles\, and San Diego. \nInstead\, the truck was pulled over by an unsuspecting small town cop and the outlaws opened fire. After shooting him twenty times\, they blasted their way past dozens of police cars and vanished into 10\,000 square miles of the harshest wilderness terrain on the North American continent. The pursuit that ensued pitted the most sophisticated law enforcement technology on the planet against three self-trained survivalists. Seventy-five local\, state\, and federal police agencies; dozens of swat teams; U.S. Army Special Forces and more than five hundred officers from across the country followed the fugitives into a landscape only they could survive.
URL:https://www.telluridemuseum.org/event/san-juan-stories-book-club-one-mans-west/
LOCATION:Telluride Library
CATEGORIES:Lectures & Talks,Special Event
END:VEVENT
END:VCALENDAR