BEGIN:VCALENDAR
VERSION:2.0
PRODID:-//Telluride Historical Museum - ECPv6.15.0//NONSGML v1.0//EN
CALSCALE:GREGORIAN
METHOD:PUBLISH
X-ORIGINAL-URL:https://www.telluridemuseum.org
X-WR-CALDESC:Events for Telluride Historical Museum
REFRESH-INTERVAL;VALUE=DURATION:PT1H
X-Robots-Tag:noindex
X-PUBLISHED-TTL:PT1H
BEGIN:VTIMEZONE
TZID:America/Denver
BEGIN:DAYLIGHT
TZOFFSETFROM:-0700
TZOFFSETTO:-0600
TZNAME:MDT
DTSTART:20200308T090000
END:DAYLIGHT
BEGIN:STANDARD
TZOFFSETFROM:-0600
TZOFFSETTO:-0700
TZNAME:MST
DTSTART:20201101T080000
END:STANDARD
END:VTIMEZONE
BEGIN:VEVENT
DTSTART;TZID=America/Denver:20200314T183000
DTEND;TZID=America/Denver:20200314T213000
DTSTAMP:20260420T071707
CREATED:20190301T221328Z
LAST-MODIFIED:20200313T223335Z
UID:3849-1584210600-1584221400@www.telluridemuseum.org
SUMMARY:POSTPONED: The '70s Shindig
DESCRIPTION:With the health and wellbeing of the community in mind\, we have decided to postpone The ‘70s Shindig. While this decision does not come lightly we believe it is the right and responsible action to take in light of the recent coronavirus outbreak. The health and safety of our community and supporters is of utmost importance to the Museum\, and we do not want to do anything that would put people at risk. All ticket purchases will be refunded. We thank you for your enthusiasm around the event\, and please stay tuned for a future date. \nCelebrate Telluride in the 1970s at this historical popup exhibition and cocktail tasting party. Sip on creative libations served by local legends\, and revel in Telluride’s ‘70s history. Enjoy the one-night-only popup exhibit showcasing artifacts specially curated for the event while you taste a variety of drinks. Attendees are encouraged to don their best ‘70s gear and bring items and stories from the time period. Admission comes with two free drinks and light bites. The party starts at 6:30 p.m. on Saturday\, March 14 at Ah Haa School for the Arts in the historic depot building. \nWe are still looking for a few local “bartenders” to dole out drinks and share stories at the event. Were you here during the YX years and feel like participating? Please contact Pepper Raper at pepper@telluridemuseum.org. *Bartending experience not needed* \nDo you have a special story\, photo\, shirt\, or other ephemera from your time in Telluride during the 1970s? Would you like to share its story? If so\, please contact our collections Manager Kathy Rohrer at kathy@telluridemuseum.org \n  \n  \n 
URL:https://www.telluridemuseum.org/event/the-social-70s-shindig/
LOCATION:Ah Haa School for the Arts\, 300 S Townsend St.\, Telluride\, CO\, 81435\, United States
CATEGORIES:Special Event
GEO:37.9371347;-107.8160874
X-APPLE-STRUCTURED-LOCATION;VALUE=URI;X-ADDRESS=Ah Haa School for the Arts 300 S Townsend St. Telluride CO 81435 United States;X-APPLE-RADIUS=500;X-TITLE=300 S Townsend St.:geo:-107.8160874,37.9371347
END:VEVENT
END:VCALENDAR