BEGIN:VCALENDAR
VERSION:2.0
PRODID:-//Telluride Historical Museum - ECPv6.15.0//NONSGML v1.0//EN
CALSCALE:GREGORIAN
METHOD:PUBLISH
X-WR-CALNAME:Telluride Historical Museum
X-ORIGINAL-URL:https://www.telluridemuseum.org
X-WR-CALDESC:Events for Telluride Historical Museum
REFRESH-INTERVAL;VALUE=DURATION:PT1H
X-Robots-Tag:noindex
X-PUBLISHED-TTL:PT1H
BEGIN:VTIMEZONE
TZID:America/Denver
BEGIN:DAYLIGHT
TZOFFSETFROM:-0700
TZOFFSETTO:-0600
TZNAME:MDT
DTSTART:20240310T090000
END:DAYLIGHT
BEGIN:STANDARD
TZOFFSETFROM:-0600
TZOFFSETTO:-0700
TZNAME:MST
DTSTART:20241103T080000
END:STANDARD
END:VTIMEZONE
BEGIN:VEVENT
DTSTART;TZID=America/Denver:20241001T130000
DTEND;TZID=America/Denver:20241001T140000
DTSTAMP:20260424T023912
CREATED:20240516T213412Z
LAST-MODIFIED:20240516T213412Z
UID:6034-1727787600-1727791200@www.telluridemuseum.org
SUMMARY:Historic Walking Tour
DESCRIPTION:Join us for a one-of-a-kind experience exploring the history of Telluride with local storyteller Ashely Boling! Learn more about the people\, the history\, and the architecture that make Telluride so special. \nWalking Tours start at the Museum every Tuesday and Thursday at 1pm during the summer and fall seasons. Advance reservations are not required. Tour price of $15/person ($10 for Museum members) includes Museum admission. We advise arriving to the Museum by 12:45pm at the latest. 
URL:https://www.telluridemuseum.org/event/historic-walking-tour-45/
END:VEVENT
BEGIN:VEVENT
DTSTART;TZID=America/Denver:20241002T180000
DTEND;TZID=America/Denver:20241002T190000
DTSTAMP:20260424T023912
CREATED:20240516T212314Z
LAST-MODIFIED:20240516T212920Z
UID:6027-1727892000-1727895600@www.telluridemuseum.org
SUMMARY:Fireside Chats
DESCRIPTION:A series of free weekly lectures on Wednesdays this fall by scholars\, writers\, storytellers\, and experts of Telluride’s history. Hosted by the Telluride Historical Museum and located at the Madeline Hotel. 
URL:https://www.telluridemuseum.org/event/fireside-chats-3/
LOCATION:Madeline Hotel and Residences\, Mountain Village\, United States
GEO:37.09024;-95.712891
END:VEVENT
BEGIN:VEVENT
DTSTART;TZID=America/Denver:20241003T130000
DTEND;TZID=America/Denver:20241003T140000
DTSTAMP:20260424T023912
CREATED:20240516T213451Z
LAST-MODIFIED:20240516T213451Z
UID:6035-1727960400-1727964000@www.telluridemuseum.org
SUMMARY:Historic Walking Tour
DESCRIPTION:Join us for a one-of-a-kind experience exploring the history of Telluride with local storyteller Ashely Boling! Learn more about the people\, the history\, and the architecture that make Telluride so special. \nWalking Tours start at the Museum every Tuesday and Thursday at 1pm during the summer and fall seasons. Advance reservations are not required. Tour price of $15/person ($10 for Museum members) includes Museum admission. We advise arriving to the Museum by 12:45pm at the latest. 
URL:https://www.telluridemuseum.org/event/historic-walking-tour-46/
END:VEVENT
BEGIN:VEVENT
DTSTART;TZID=America/Denver:20241004T130000
DTEND;TZID=America/Denver:20241004T140000
DTSTAMP:20260424T023912
CREATED:20240516T214058Z
LAST-MODIFIED:20240516T214058Z
UID:6040-1728046800-1728050400@www.telluridemuseum.org
SUMMARY:Lone Tree Cemetery Tour
DESCRIPTION:Cemeteries can tell us a lot about our communities and Lone Tree Cemetery is no exception.\nJoin the Museum for a unique look into Telluride history and the iconic people who lived\, worked\, and were buried here.\n \n$10 for Museum Members\, $15 for Non-Members.\n \nTours will meet at the Cemetery at 1:00 pm at the E. Columbia gate entrance.\nPlease purchase tickets ahead of time by calling the museum at 970-728-3344
URL:https://www.telluridemuseum.org/event/lone-tree-cemetery-tour-31/
END:VEVENT
BEGIN:VEVENT
DTSTART;TZID=America/Denver:20241008T130000
DTEND;TZID=America/Denver:20241008T140000
DTSTAMP:20260424T023912
CREATED:20240516T213541Z
LAST-MODIFIED:20240516T213541Z
UID:6036-1728392400-1728396000@www.telluridemuseum.org
SUMMARY:Historic Walking Tour
DESCRIPTION:Join us for a one-of-a-kind experience exploring the history of Telluride with local storyteller Ashely Boling! Learn more about the people\, the history\, and the architecture that make Telluride so special. \nWalking Tours start at the Museum every Tuesday and Thursday at 1pm during the summer and fall seasons. Advance reservations are not required. Tour price of $15/person ($10 for Museum members) includes Museum admission. We advise arriving to the Museum by 12:45pm at the latest. 
URL:https://www.telluridemuseum.org/event/historic-walking-tour-47/
CATEGORIES:Tours
END:VEVENT
BEGIN:VEVENT
DTSTART;TZID=America/Denver:20241010T130000
DTEND;TZID=America/Denver:20241010T140000
DTSTAMP:20260424T023912
CREATED:20240516T213623Z
LAST-MODIFIED:20240516T213623Z
UID:6037-1728565200-1728568800@www.telluridemuseum.org
SUMMARY:Historic Walking Tour
DESCRIPTION:Join us for a one-of-a-kind experience exploring the history of Telluride with local storyteller Ashely Boling! Learn more about the people\, the history\, and the architecture that make Telluride so special. \nWalking Tours start at the Museum every Tuesday and Thursday at 1pm during the summer and fall seasons. Advance reservations are not required. Tour price of $15/person ($10 for Museum members) includes Museum admission. We advise arriving to the Museum by 12:45pm at the latest. 
URL:https://www.telluridemuseum.org/event/historic-walking-tour-48/
END:VEVENT
BEGIN:VEVENT
DTSTART;TZID=America/Denver:20241011T183000
DTEND;TZID=America/Denver:20241011T193000
DTSTAMP:20260424T023912
CREATED:20240516T214337Z
LAST-MODIFIED:20241008T223145Z
UID:6042-1728671400-1728675000@www.telluridemuseum.org
SUMMARY:Lamplight Cemetery Tour
DESCRIPTION:Explore the historic Lone Tree Cemetery by the eeriness of lamplight. This tour takes place in the evening and recounts Telluride’s history through the stories of the rugged people that lived\, worked\, and were buried here. \nSpace is limited RSVPs are required. Call the Museum to reserve: 970-728-3344
URL:https://www.telluridemuseum.org/event/lamplight-cemetery-tour-8/
END:VEVENT
BEGIN:VEVENT
DTSTART;TZID=America/Denver:20241018T183000
DTEND;TZID=America/Denver:20241018T193000
DTSTAMP:20260424T023912
CREATED:20240516T214431Z
LAST-MODIFIED:20240516T214808Z
UID:6043-1729276200-1729279800@www.telluridemuseum.org
SUMMARY:Lamplight Cemetery Tour
DESCRIPTION:Explore the historic Lone Tree Cemetery by the eeriness of lamplight. This tour takes place in the evening and recounts Telluride’s history through the stories of the rugged people that lived\, worked\, and were buried here. \nSpace is limited RSVPs are required. Call the Museum to reserve: 970-728-3344
URL:https://www.telluridemuseum.org/event/lamplight-cemetery-tour-9/
END:VEVENT
BEGIN:VEVENT
DTSTART;VALUE=DATE:20241019
DTEND;VALUE=DATE:20241020
DTSTAMP:20260424T023912
CREATED:20241015T214105Z
LAST-MODIFIED:20241015T214105Z
UID:6353-1729296000-1729382399@www.telluridemuseum.org
SUMMARY:Museum's last day open for the season
DESCRIPTION:
URL:https://www.telluridemuseum.org/event/museums-last-day-open-for-the-season/
LOCATION:Telluride Museum\, 201 W Gregory Ave\, Telluride\, CO\, 81435\, United States
GEO:37.9398;-107.810773
X-APPLE-STRUCTURED-LOCATION;VALUE=URI;X-ADDRESS=Telluride Museum 201 W Gregory Ave Telluride CO 81435 United States;X-APPLE-RADIUS=500;X-TITLE=201 W Gregory Ave:geo:-107.810773,37.9398
END:VEVENT
BEGIN:VEVENT
DTSTART;VALUE=DATE:20241020
DTEND;VALUE=DATE:20241021
DTSTAMP:20260424T023912
CREATED:20240516T215018Z
LAST-MODIFIED:20241015T213931Z
UID:6046-1729382400-1729468799@www.telluridemuseum.org
SUMMARY:Museum closing for the season
DESCRIPTION:
URL:https://www.telluridemuseum.org/event/museum-closed-for-the-season/
END:VEVENT
BEGIN:VEVENT
DTSTART;TZID=America/Denver:20241025T183000
DTEND;TZID=America/Denver:20241025T193000
DTSTAMP:20260424T023912
CREATED:20240516T214519Z
LAST-MODIFIED:20240516T214540Z
UID:6044-1729881000-1729884600@www.telluridemuseum.org
SUMMARY:Lamplight Cemetery Tour
DESCRIPTION:Explore the historic Lone Tree Cemetery by the eeriness of lamplight. This tour takes place in the evening and recounts Telluride’s history through the stories of the rugged people that lived\, worked\, and were buried here. \nSpace is limited RSVPs are required. Call the Museum to reserve: 970-728-3344
URL:https://www.telluridemuseum.org/event/lamplight-cemetery-tour-10/
END:VEVENT
BEGIN:VEVENT
DTSTART;TZID=America/Denver:20241031T170000
DTEND;TZID=America/Denver:20241031T190000
DTSTAMP:20260424T023912
CREATED:20240516T214946Z
LAST-MODIFIED:20240516T214946Z
UID:6045-1730394000-1730401200@www.telluridemuseum.org
SUMMARY:Halloween on the Hill
DESCRIPTION:Trick or Treat on Fir Street 
URL:https://www.telluridemuseum.org/event/halloween-on-the-hill-3/
END:VEVENT
END:VCALENDAR