BEGIN:VCALENDAR
VERSION:2.0
PRODID:-//Telluride Historical Museum - ECPv6.15.0//NONSGML v1.0//EN
CALSCALE:GREGORIAN
METHOD:PUBLISH
X-WR-CALNAME:Telluride Historical Museum
X-ORIGINAL-URL:https://www.telluridemuseum.org
X-WR-CALDESC:Events for Telluride Historical Museum
REFRESH-INTERVAL;VALUE=DURATION:PT1H
X-Robots-Tag:noindex
X-PUBLISHED-TTL:PT1H
BEGIN:VTIMEZONE
TZID:America/Denver
BEGIN:DAYLIGHT
TZOFFSETFROM:-0700
TZOFFSETTO:-0600
TZNAME:MDT
DTSTART:20170312T090000
END:DAYLIGHT
BEGIN:STANDARD
TZOFFSETFROM:-0600
TZOFFSETTO:-0700
TZNAME:MST
DTSTART:20171105T080000
END:STANDARD
END:VTIMEZONE
BEGIN:VEVENT
DTSTART;TZID=America/Denver:20170725T173000
DTEND;TZID=America/Denver:20170725T183000
DTSTAMP:20260420T054303
CREATED:20170627T202722Z
LAST-MODIFIED:20170627T202913Z
UID:3283-1501003800-1501007400@www.telluridemuseum.org
SUMMARY:Red Light District Walking Tour
DESCRIPTION:Tuesday\, July 25\, 2017 | 5:30pm  – 6:30pm \nJoin the Telluride Historical Museum and award-winning poet Kierstin Bridger on a tour through Telluride’s notorious\, historic Red Light District. Tour begins at the Museum. Tickets can be purchased online or at the Museum.
URL:https://www.telluridemuseum.org/event/red-light-district-walking-tour-2/
LOCATION:Telluride Historical Museum\, 201 W. Gregory Ave.\, Telluride\, CO\, 81435\, United States
END:VEVENT
END:VCALENDAR