BEGIN:VCALENDAR
VERSION:2.0
PRODID:-//Telluride Historical Museum - ECPv6.15.0//NONSGML v1.0//EN
CALSCALE:GREGORIAN
METHOD:PUBLISH
X-ORIGINAL-URL:https://www.telluridemuseum.org
X-WR-CALDESC:Events for Telluride Historical Museum
REFRESH-INTERVAL;VALUE=DURATION:PT1H
X-Robots-Tag:noindex
X-PUBLISHED-TTL:PT1H
BEGIN:VTIMEZONE
TZID:America/Denver
BEGIN:DAYLIGHT
TZOFFSETFROM:-0700
TZOFFSETTO:-0600
TZNAME:MDT
DTSTART:20190310T090000
END:DAYLIGHT
BEGIN:STANDARD
TZOFFSETFROM:-0600
TZOFFSETTO:-0700
TZNAME:MST
DTSTART:20191103T080000
END:STANDARD
END:VTIMEZONE
BEGIN:VEVENT
DTSTART;TZID=America/Denver:20191207T110000
DTEND;TZID=America/Denver:20191207T140000
DTSTAMP:20260419T073039
CREATED:20181127T234603Z
LAST-MODIFIED:20191119T002109Z
UID:3761-1575716400-1575727200@www.telluridemuseum.org
SUMMARY:Olde Fashioned Christmas
DESCRIPTION:Start the holidays early with the Telluride Historical Museum! A favorite Telluride tradition\, Olde Fashioned will take place at Schmid Family Ranch on December 7 from Noon to 3 p.m. Festivities include ornament and wreath making crafts\, sitting with Santa\, sleigh rides\, and Christmas tree cutting. \nWe will also have marshmallow roasting over the fire\, hot dogs\, and cowboy coffee! \nAdmission is free and we are requesting donations for food and crafts. Sleigh rides will be $5 per person and it is $40 to cut your own Christmas tree. \nGet in the holiday spirit\, bring your family and friends! \nIf you want to join in the festivities and would like to volunteer\, please email pepper@telluridemuseum.org. \n\n\nDirections:\nTake 145 out of Telluride towards Sawpit. Drive about 9 miles and then take a left on Silver Pick Road. Drive about 10 minutes up Silver Pick Road. There will be signs along Silver Pick Road. 4wd vehicles are recommended\, as it can get muddy if the ground hasn’t frozen.
URL:https://www.telluridemuseum.org/event/olde-fashioned-christmas/
LOCATION:Schmid Family Ranch\, 4553 County Road 60M\, Telluride\, 81435\, United States
CATEGORIES:Family,Field Trips,Special Event
ATTACH;FMTTYPE=image/jpeg:https://www.telluridemuseum.org/wp-content/uploads/2018/11/2019-Old-Fashioned-Christmas-2019-LOW-RES-POSTER.jpg
GEO:37.914512;-107.901014
X-APPLE-STRUCTURED-LOCATION;VALUE=URI;X-ADDRESS=Schmid Family Ranch 4553 County Road 60M Telluride 81435 United States;X-APPLE-RADIUS=500;X-TITLE=4553 County Road 60M:geo:-107.901014,37.914512
END:VEVENT
END:VCALENDAR