BEGIN:VCALENDAR
VERSION:2.0
PRODID:-//Telluride Historical Museum - ECPv6.15.0//NONSGML v1.0//EN
CALSCALE:GREGORIAN
METHOD:PUBLISH
X-WR-CALNAME:Telluride Historical Museum
X-ORIGINAL-URL:https://www.telluridemuseum.org
X-WR-CALDESC:Events for Telluride Historical Museum
REFRESH-INTERVAL;VALUE=DURATION:PT1H
X-Robots-Tag:noindex
X-PUBLISHED-TTL:PT1H
BEGIN:VTIMEZONE
TZID:America/Denver
BEGIN:DAYLIGHT
TZOFFSETFROM:-0700
TZOFFSETTO:-0600
TZNAME:MDT
DTSTART:20210314T090000
END:DAYLIGHT
BEGIN:STANDARD
TZOFFSETFROM:-0600
TZOFFSETTO:-0700
TZNAME:MST
DTSTART:20211107T080000
END:STANDARD
BEGIN:DAYLIGHT
TZOFFSETFROM:-0700
TZOFFSETTO:-0600
TZNAME:MDT
DTSTART:20220313T090000
END:DAYLIGHT
BEGIN:STANDARD
TZOFFSETFROM:-0600
TZOFFSETTO:-0700
TZNAME:MST
DTSTART:20221106T080000
END:STANDARD
END:VTIMEZONE
BEGIN:VEVENT
DTSTART;TZID=America/Denver:20220704T120000
DTEND;TZID=America/Denver:20220704T133000
DTSTAMP:20260421T050552
CREATED:20220629T202149Z
LAST-MODIFIED:20220629T202149Z
UID:5078-1656936000-1656941400@www.telluridemuseum.org
SUMMARY:4th of July Root Beer Floats
DESCRIPTION:Come celebrate the 4th of July with the Museum!  After two long years\, our annual root beer float fundraiser is back.  Come up the hill to the Museum after the parade to enjoy this summertime classic.  $5 per float. \nAlso\, the Museum will be open from 1-5PM (with free admission)! So bring your friends and family to learn about the rich and interesting history of Telluride!
URL:https://www.telluridemuseum.org/event/4th-of-july-root-beer-floats/
LOCATION:Telluride Historical Museum Amphitheatre
END:VEVENT
BEGIN:VEVENT
DTSTART;TZID=America/Denver:20210915T173000
DTEND;TZID=America/Denver:20210915T184500
DTSTAMP:20260421T050552
CREATED:20210818T211337Z
LAST-MODIFIED:20210818T211337Z
UID:4753-1631727000-1631731500@www.telluridemuseum.org
SUMMARY:Fireside Chat: Paul O’Rourke
DESCRIPTION:Join the Telluride Historical Museum for a series of free lectures and conversations this fall\, learning about Telluride history through unique perspectives. Every Wednesday beginning Sept. 15\, through Oct. 6. \nPAUL O’ROURKE – TELLURIDE MUSEUM AMPHITHEATRE\nLocal historian and writer\, Paul O’Rourke has written many fascinating articles for Telluride Magazine\, diving deep into lesser-known stories from Telluride’s past. For this Fireside Chat\, he will be sharing his recent research on the history of the Telluride Post Office.
URL:https://www.telluridemuseum.org/event/fireside-chat-paul-orourke/
LOCATION:Telluride Historical Museum Amphitheatre
CATEGORIES:Lectures & Talks
ATTACH;FMTTYPE=image/png:https://www.telluridemuseum.org/wp-content/uploads/2016/08/THMWebsiteBanner_firesidechats_text-1.png
END:VEVENT
END:VCALENDAR